BEGIN:VCALENDAR
VERSION:2.0
PRODID:-//Missio Nexus - ECPv6.15.20//NONSGML v1.0//EN
CALSCALE:GREGORIAN
METHOD:PUBLISH
X-ORIGINAL-URL:https://missionexus.org
X-WR-CALDESC:Events for Missio Nexus
REFRESH-INTERVAL;VALUE=DURATION:PT1H
X-Robots-Tag:noindex
X-PUBLISHED-TTL:PT1H
BEGIN:VTIMEZONE
TZID:America/New_York
BEGIN:DAYLIGHT
TZOFFSETFROM:-0500
TZOFFSETTO:-0400
TZNAME:EDT
DTSTART:20250309T070000
END:DAYLIGHT
BEGIN:STANDARD
TZOFFSETFROM:-0400
TZOFFSETTO:-0500
TZNAME:EST
DTSTART:20251102T060000
END:STANDARD
BEGIN:DAYLIGHT
TZOFFSETFROM:-0500
TZOFFSETTO:-0400
TZNAME:EDT
DTSTART:20260308T070000
END:DAYLIGHT
BEGIN:STANDARD
TZOFFSETFROM:-0400
TZOFFSETTO:-0500
TZNAME:EST
DTSTART:20261101T060000
END:STANDARD
BEGIN:DAYLIGHT
TZOFFSETFROM:-0500
TZOFFSETTO:-0400
TZNAME:EDT
DTSTART:20270314T070000
END:DAYLIGHT
BEGIN:STANDARD
TZOFFSETFROM:-0400
TZOFFSETTO:-0500
TZNAME:EST
DTSTART:20271107T060000
END:STANDARD
END:VTIMEZONE
BEGIN:VTIMEZONE
TZID:America/Los_Angeles
BEGIN:DAYLIGHT
TZOFFSETFROM:-0800
TZOFFSETTO:-0700
TZNAME:PDT
DTSTART:20250309T100000
END:DAYLIGHT
BEGIN:STANDARD
TZOFFSETFROM:-0700
TZOFFSETTO:-0800
TZNAME:PST
DTSTART:20251102T090000
END:STANDARD
BEGIN:DAYLIGHT
TZOFFSETFROM:-0800
TZOFFSETTO:-0700
TZNAME:PDT
DTSTART:20260308T100000
END:DAYLIGHT
BEGIN:STANDARD
TZOFFSETFROM:-0700
TZOFFSETTO:-0800
TZNAME:PST
DTSTART:20261101T090000
END:STANDARD
BEGIN:DAYLIGHT
TZOFFSETFROM:-0800
TZOFFSETTO:-0700
TZNAME:PDT
DTSTART:20270314T100000
END:DAYLIGHT
BEGIN:STANDARD
TZOFFSETFROM:-0700
TZOFFSETTO:-0800
TZNAME:PST
DTSTART:20271107T090000
END:STANDARD
END:VTIMEZONE
BEGIN:VEVENT
DTSTART;TZID=America/New_York:20260429T130000
DTEND;TZID=America/New_York:20260429T140000
DTSTAMP:20260423T042135
CREATED:20260331T202415Z
LAST-MODIFIED:20260421T161837Z
UID:10000424-1777467600-1777471200@missionexus.org
SUMMARY:Discipling Young People in Your Church to Become Disciple Makers of the Nations
DESCRIPTION:Carlos Negrón of Missio Nexus and Matthew Ellison of 16:15 will be joined by special guests Nicole Parks of Cafe 1040 and Julius Tennal of Summit Church in North Carolina for an important conversation on Discipling Young People in Your Church to Become Disciple Makers of the Nations. \nAcross the country\, churches are asking how to help the next generation develop a heart for the nations. Many young people are open\, eager\, and searching for purpose\, but they are often discipled more by culture than by the global mission of God. At the same time\, churches struggle to know how to shape students and young adults into followers of Jesus who understand His heart for all peoples and are ready to join His work locally and globally. \nHow do we move beyond events\, trips\, and occasional teaching toward a pattern of discipleship that forms young believers with a passion for Christ and a vision for the unreached? What does it look like to help them hear God’s voice\, cultivate spiritual depth\, develop resilience\, and understand the responsibility and privilege of making disciples among all nations? And how can leaders walk with young people so they grow from curiosity to conviction to long-term commitment? \nIn this conversation\, we will explore practical ways churches can disciple the next generation toward global engagement. We will look at rhythms\, relationships\, and environments that shape young hearts to care about what God cares about and to see themselves as active participants in His mission. You will walk away with tools that help your church invest in young people with purpose and intentionality for the sake of the nations. \nPresenters: \n\n\n\n\n Nicole Parks – Nicole is a passionate advocate for the unreached and a lover of the word of God. She loves teaching and writing about God’s big story and His global purposes. She has a Bachelor’s degree in International Business and a Masters in Global Studies. She is an active Perspectives instructor\, sought-after Bible teacher\, and a published author. She has worked with Cafe 1040 since 2015 and is now serving as the Vice President of Mobilization and Strategic Partnerships. Her love of travel and Jesus has brought her to over 30 different countries and counting. But her favorite role of all is full-time wife and mom to three children. \n  \n \nJulius Tennal – Julius has been married to his high school sweetheart\, Brittany\, for (12) years and they have three energetic sons: Azariah (6)\, Josiah (3)\, and Zechariah (2). Julius has served in vocational ministry for (13) years\, including 3 years as a missionary in South Africa. He has an M.Div in Missiology from Southeastern Baptist Theological Seminary and serves as Pastor of International Missions with the Summit Church in North Carolina.\n\n\n\n 
URL:https://missionexus.org/event/discipling-young-people-in-your-church-to-become-disciple-makers-of-the-nations/
CATEGORIES:Webinars / Virtual Events
ATTACH;FMTTYPE=image/jpeg:https://missionexus.org/wp-content/uploads/2026/03/P2P-Nicole-Parks-and-Julius-Tennal-2.jpg
ORGANIZER;CN="Missio Nexus":MAILTO:info@missionexus.org
LOCATION:https://missionexus.org/event/discipling-young-people-in-your-church-to-become-disciple-makers-of-the-nations/
END:VEVENT
BEGIN:VEVENT
DTSTART;TZID=America/Los_Angeles:20260513T170000
DTEND;TZID=America/Los_Angeles:20260520T070000
DTSTAMP:20260423T042135
CREATED:20250805T134920Z
LAST-MODIFIED:20260416T154506Z
UID:10000372-1778691600-1779260400@missionexus.org
SUMMARY:Leading 10X Bigger
DESCRIPTION:Leading 10X Bigger is  a 1-week intensive training for women whose leadership platform is expanding. (Formerly called Leadership Pathways 1) \nAs your leadership increases\, so does your need for practical skills and spiritual depth. Join us for a week of building your competence\, confidence\, and abilities in close community with other women leaders. Participants will be equipped to set direction\, lead change\, build a team\, serve as a spokesperson\, and lead up—while remaining deeply connected to the Lord. You will leave resourced\, refined\, and refreshed for the important work to which you have been called. \n“You can’t do big like you did small.” Those were the words my pastor’s wife spoke as she described the transition from a small rural church to a much larger community church. And that is the challenge for leaders as their leadership responsibilities increase. How do you make the adjustments to the new realities? What must change? What must stay the same or increase? Sessions will include: \nWhat changes at the next level of leadership? \n\nGeneralist/specialist tensions\nLeading up\, across\, and out\nGaining support\n\nThinking & Acting Differently \n\nSetting Direction\nLeading Change\nBuilding the team\nServing as spokesperson\n\nSelf- Leadership \n\nImpact on decisions\, priorities\, schedule & relationships\nManaging your own transition and others\nStaying fueled\n\nHeart Capacity \n\nSelf-doubt & the impostor syndrome\nKeeping a tender heart toward the Lord and others\nHumility\, integrity\, and courage\n\nIn each section\, we will also discuss the unique challenges women in leadership may face. \nDates \nMay 13-20\, 2026 \nPlan to arrive by 5 pm on Wednesday\, the 13th\, and depart anytime on the 20th. \nTarget Audience \nLeading 10X Bigger is for women who are new to executive leadership or preparing for greater responsibility. It is particularly tailored to those who lead teams. \nOnly 10 spaces! Act now. \nVenue \n \nRoss Point Camp & Conference Center \n820 S Ross Point Rd \nPost Falls Idaho \nPlan to fly into Spokane International Airport. Ross Point Camp & Conference Center is a 35-minute drive from the Spokane International Airport. \nCost \nMembers $1197 \nNon-Members $1397 \nWhat’s Included \nFood and Lodging (Single Occupancy) \nTransportation to and from the Spokane International Airport (if desired) \nMeet Your Facilitators \n Andrea Buczynski has served as the Global VP for Leadership Development and HR for Cru for the past twenty years. She came to Christ through the Four Spiritual Laws while a chemistry student at Penn State. Called to campus ministry 47 years ago\, her formative ministry and leadership experience started with 15 years of campus assignments throughout the Midwest before coming to serve at the headquarters in Florida in 1993. Nine years as National Director of Staffed Campuses preceded a short time as Global Campus Ministry Leadership Development specialist\, before taking on the Vice President role in 2004. She is currently serving as a Leadership Development consultant and coach with Cru\, and a Board member for Christian Leadership Alliance. She enjoys coffee\, good books and the beach. \n  \n Jenn Williamson\, DMin\, is the Director of Leadership Formation for Missio Nexus. She is passionate about equipping and encouraging Christian leaders to guide their organizations to greater effectiveness by developing and employing strategies and systems that reflect and reveal the Kingdom of God. She is a co-host of the podcast\, GOING: Where God is at Work\, discussing  global missions. Originally from the US\, she has lived and worked in Lyon\, France since 2010 where she continues to equip and mentor global leaders and train cross-cultural workers. \n  \nContact \nFor any questions\, please contact us at Events@MissioNexus.org. \nCancellation Policy \nRegistration for this event closes on April 15 or when sold out. Cancellations received on or before April 15 will be refunded minus a $50 cancellation fee. After that\, no refund is available. \nMissio Nexus encourages interaction on diverse and difficult topics. Be aware that the information shared in this event may not reflect the views of the Missio Nexus staff\, board\, or other community members.
URL:https://missionexus.org/event/leading-10x-bigger-2/
LOCATION:Ross Point Conference Center\, 820S Ross Point Rd\, Post Falls\, ID\, 83854\, United States
CATEGORIES:Meetup
ATTACH;FMTTYPE=image/jpeg:https://missionexus.org/wp-content/uploads/2024/09/Leading-10X-Bigger-50-1.jpg
END:VEVENT
END:VCALENDAR