BEGIN:VCALENDAR
VERSION:2.0
PRODID:-//Missio Nexus - ECPv6.15.20//NONSGML v1.0//EN
CALSCALE:GREGORIAN
METHOD:PUBLISH
X-WR-CALNAME:Missio Nexus
X-ORIGINAL-URL:https://missionexus.org
X-WR-CALDESC:Events for Missio Nexus
REFRESH-INTERVAL;VALUE=DURATION:PT1H
X-Robots-Tag:noindex
X-PUBLISHED-TTL:PT1H
BEGIN:VTIMEZONE
TZID:America/New_York
BEGIN:DAYLIGHT
TZOFFSETFROM:-0500
TZOFFSETTO:-0400
TZNAME:EDT
DTSTART:20250309T070000
END:DAYLIGHT
BEGIN:STANDARD
TZOFFSETFROM:-0400
TZOFFSETTO:-0500
TZNAME:EST
DTSTART:20251102T060000
END:STANDARD
BEGIN:DAYLIGHT
TZOFFSETFROM:-0500
TZOFFSETTO:-0400
TZNAME:EDT
DTSTART:20260308T070000
END:DAYLIGHT
BEGIN:STANDARD
TZOFFSETFROM:-0400
TZOFFSETTO:-0500
TZNAME:EST
DTSTART:20261101T060000
END:STANDARD
BEGIN:DAYLIGHT
TZOFFSETFROM:-0500
TZOFFSETTO:-0400
TZNAME:EDT
DTSTART:20270314T070000
END:DAYLIGHT
BEGIN:STANDARD
TZOFFSETFROM:-0400
TZOFFSETTO:-0500
TZNAME:EST
DTSTART:20271107T060000
END:STANDARD
END:VTIMEZONE
BEGIN:VEVENT
DTSTART;TZID=America/New_York:20260923T140000
DTEND;TZID=America/New_York:20260925T120000
DTSTAMP:20260424T165707
CREATED:20240604T183546Z
LAST-MODIFIED:20260420T154620Z
UID:10000288-1790172000-1790337600@missionexus.org
SUMMARY:The 2026 Mission Leaders Conference
DESCRIPTION:Join us for the 2026 Mission Leaders Conference/Church Mission Leaders Conference in Orlando\, Florida on September 23–25.
URL:https://missionexus.org/event/the-2026-mission-leaders-conference/
CATEGORIES:Mission Leaders Conference
ATTACH;FMTTYPE=image/jpeg:https://missionexus.org/wp-content/uploads/2019/03/future-mission-venue-caribe-royale.jpg
ORGANIZER;CN="Missio Nexus":MAILTO:info@missionexus.org
END:VEVENT
END:VCALENDAR